BEGIN:VCALENDAR
VERSION:2.0
PRODID:http://www.pfarrei-ahreifel.de
BEGIN:VEVENT
UID:cb80043a-3f89-11f1-a3e9-0242ac11002b-1785596400000-de
DTSTAMP:20260424T030048Z
DTSTART:20260801T150000Z
DTEND:20260801T154500Z
SUMMARY;LANGUAGE=de: Heilige Messe für die Lebenden und Verstorbenen der Pfarrei, in besonderem Gedenken an: 
END:VEVENT
END:VCALENDAR
