BEGIN:VCALENDAR
VERSION:2.0
PRODID:http://www.pfarrei-ahreifel.de
BEGIN:VEVENT
UID:77d1cb1e-3df7-11f1-a3e9-0242ac11002b-1785394800000-de
DTSTAMP:20260422T030050Z
DTSTART:20260730T070000Z
DTEND:20260730T074500Z
SUMMARY;LANGUAGE=de: Heilige Messe (Pfr. Görres) mit Gebet um geistliche Berufe  
END:VEVENT
END:VCALENDAR
