BEGIN:VCALENDAR
VERSION:2.0
PRODID:http://www.pfarrei-ahreifel.de
BEGIN:VEVENT
UID:1fce19f8-3c65-11f1-a3e9-0242ac11002b-1785244500000-de
DTSTAMP:20260420T030044Z
DTSTART:20260728T131500Z
DTEND:20260728T141500Z
SUMMARY;LANGUAGE=de: Pilgermesse (Pfr. Görres) , in besonderem Gedenken an:
END:VEVENT
END:VCALENDAR
